BEGIN:VCALENDAR
VERSION:2.0
PRODID: -//Q4 Inc.//EN
METHOD:PUBLISH
BEGIN:VTIMEZONE
TZID:America/New_York
X-LIC-LOCATION:America/New_York
BEGIN:DAYLIGHT
TZOFFSETFROM:-0500
TZOFFSETTO:-0400
TZNAME:EDT
DTSTART:19700308T020000
RRULE:FREQ=YEARLY;BYMONTH=3;BYDAY=2SU
END:DAYLIGHT
BEGIN:STANDARD
TZOFFSETFROM:-0400
TZOFFSETTO:-0500
TZNAME:EST
DTSTART:19701101T020000
RRULE:FREQ=YEARLY;BYMONTH=11;BYDAY=1SU
END:STANDARD
END:VTIMEZONE
BEGIN:VEVENT
ORGANIZER:MAILTO:no-reply@netflixinvestor.com
DTSTART;TZID="America/New_York":20160106T144500
DTEND;TZID="America/New_York":20160106T144500
LOCATION:
UID:415a3f4f-2478-4c10-a0f2-f2c5c7a6e34b
DTSTAMP:20260424T204808
SUMMARY:Citi 26th Annual Global Internet, Media and Telecommunications Conference
DESCRIPTION: View More Information: https://ir.netflix.net/investor-news-and-events/investor-events/event-details/2016/Citi-26th-Annual-Global-Internet-Media-and-Telecommunications-Conference/default.aspx
URL;VALUE=URI:https://ir.netflix.net/investor-news-and-events/investor-events/event-details/2016/Citi-26th-Annual-Global-Internet-Media-and-Telecommunications-Conference/default.aspx
PRIORITY:5
CLASS:PUBLIC
END:VEVENT
END:VCALENDAR
